BEGIN:VCALENDAR
PRODID:-//eluceo/ical//2.0/EN
VERSION:2.0
CALSCALE:GREGORIAN
BEGIN:VEVENT
UID:3cb2372d53f72fe1c0a5e2729f46be78
DTSTAMP:20260419T174917Z
SUMMARY:Malungs Tandvård
DESCRIPTION:Speaker(s): Hani Fakih
URL:https://malung-salen.rotary2335.se/en/agenda/show/218270
DTSTART;TZID=Europe/Zurich:20260415T180000
DTEND;TZID=Europe/Zurich:20260415T200000
LOCATION:Sankt Olof Hotell och Krog\, Moravägen 11\, 782 31 Malung\, Sveri
 ge
CATEGORIES:Rotary
END:VEVENT
BEGIN:VTIMEZONE
TZID:Europe/Zurich
BEGIN:DAYLIGHT
DTSTART:20260415T180000
TZNAME:CEST
TZOFFSETTO:+0200
TZOFFSETFROM:+0200
END:DAYLIGHT
END:VTIMEZONE
END:VCALENDAR
