BEGIN:VCALENDAR
PRODID:-//eluceo/ical//2.0/EN
VERSION:2.0
CALSCALE:GREGORIAN
BEGIN:VEVENT
UID:8992d772527ffdbb09bad39b48f5b32c
DTSTAMP:20260419T175136Z
SUMMARY:Lundsbergs Internatskola
DESCRIPTION:Speaker(s): Lars Jonsson\, VD Lundsbergs skola
URL:https://malung-salen.rotary2335.se/en/agenda/show/218231
DTSTART;TZID=Europe/Zurich:20260403T071500
DTEND;TZID=Europe/Zurich:20260403T093000
LOCATION:Sälens Högfjällshotell\, Clüvers väg 35\, 780 67 Sälen\, Sve
 rige
CATEGORIES:Rotary
END:VEVENT
BEGIN:VTIMEZONE
TZID:Europe/Zurich
BEGIN:DAYLIGHT
DTSTART:20260403T071500
TZNAME:CEST
TZOFFSETTO:+0200
TZOFFSETFROM:+0200
END:DAYLIGHT
END:VTIMEZONE
END:VCALENDAR
